BEGIN:VCALENDAR
PRODID:-//dvv-bw.de//dvv.Portalplattform//DE
VERSION:2.0
METHOD:PUBLISH
BEGIN:VEVENT
DTSTART:20260425T080000Z
DTEND:20260426T100000Z
DTSTAMP:20260423T081953Z
RRULE;FREQ=DAILY;UNTIL=20260426T215959Z
UID:523254277531-523254277558-1777068000000
SUMMARY:MHFA Ersthelfer-Kurs
LOCATION:Johannesstraße 23\, Johannesstraße 23\, 70806 Kornwestheim
DESCRIPTION:MHFA Ersthelfer-Kurs
CLASS:PUBLIC
X-ALT-DESC;FMTTYPE=text/html:MHFA Ersthelfer-Kurs
END:VEVENT
END:VCALENDAR
