BEGIN:VCALENDAR
PRODID:-//dvv-bw.de//dvv.Portalplattform//DE
VERSION:2.0
METHOD:PUBLISH
BEGIN:VEVENT
DTSTART:20260423T140000Z
DTEND:20260423T150000Z
DTSTAMP:20260423T140000Z
UID:523254158852-523254061311-1776895200000
SUMMARY:Lesefantenclub
LOCATION:Stadtbücherei\, Stuttgarter Straße 65
DESCRIPTION:Anmeldung ab Donnerstag\, 16.04.2026 HIER möglich.
CLASS:PUBLIC
X-ALT-DESC;FMTTYPE=text/html:Anmeldung ab Donnerstag\, 16.04.2026 HIER möglich.
END:VEVENT
END:VCALENDAR
