BEGIN:VCALENDAR
PRODID:-//dvv-bw.de//dvv.Portalplattform//DE
VERSION:2.0
METHOD:PUBLISH
BEGIN:VEVENT
DTSTART:20260507T140000Z
DTEND:20260507T150000Z
DTSTAMP:20260423T022627Z
UID:523254062779-523254061312-1778104800000
SUMMARY:Lesefantenclub
LOCATION:Stadtbücherei\, Stuttgarter Straße 65
DESCRIPTION:Anmeldung ab Donnerstag\, 30.04.2026 HIER möglich.
CLASS:PUBLIC
X-ALT-DESC;FMTTYPE=text/html:Anmeldung ab Donnerstag\, 30.04.2026 HIER möglich.
END:VEVENT
END:VCALENDAR
