BEGIN:VCALENDAR
PRODID:-//dvv-bw.de//dvv.Portalplattform//DE
VERSION:2.0
METHOD:PUBLISH
BEGIN:VEVENT
DTSTART:20260428T120000Z
DTEND:20260428T160000Z
DTSTAMP:20260423T041941Z
UID:523254364222-523248676506-1777327200000
SUMMARY:Kaffeetreff - Bingo
LOCATION:Begegnungsstätte Schafhof\, Badstraße 12
DESCRIPTION:Kaffeetreff ab 14:00 Uhr\, Bingo ab 15:00 Uhr. Alle sind willkommen. Während der Öffnungszeiten gibt es Kuchen\, Kaffee und andere Getränke.
CLASS:PUBLIC
X-ALT-DESC;FMTTYPE=text/html:Kaffeetreff ab 14:00 Uhr\, Bingo ab 15:00 Uhr. Alle sind willkommen. Während der Öffnungszeiten gibt es Kuchen\, Kaffee und andere Getränke.
END:VEVENT
END:VCALENDAR
