BEGIN:VCALENDAR
PRODID:-//dvv-bw.de//dvv.Portalplattform//DE
VERSION:2.0
METHOD:PUBLISH
BEGIN:VEVENT
DTSTART:20260429T080000Z
DTEND:20260429T093000Z
DTSTAMP:20260423T062457Z
UID:523254541654-523254541550-1777413600000
SUMMARY:Biografischen Erzählcafé
LOCATION:Bewohner- und Familienzentrum (BFZ)\, Salamanderstraße 18
DESCRIPTION:Wir bitten um vorherige Anmeldung bei der Projektleiterin Laura-Sophie Giugno (Tel.: 07154-202-8408, E-Mail: laura-sophie.giugno@kornwestheim.de). Die Teilnahme ist kostenlos, das Angebot steht allen Interessierten offen.
CLASS:PUBLIC
X-ALT-DESC;FMTTYPE=text/html:Wir bitten um vorherige Anmeldung bei der Projektleiterin Laura-Sophie Giugno (Tel.: 07154-202-8408, E-Mail: laura-sophie.giugno@kornwestheim.de). Die Teilnahme ist kostenlos, das Angebot steht allen Interessierten offen.
END:VEVENT
END:VCALENDAR
